BEGIN:VCALENDAR
VERSION:2.0
PRODID:-//Neckarwölfe e.V. - ECPv6.15.13.1//NONSGML v1.0//EN
CALSCALE:GREGORIAN
METHOD:PUBLISH
X-ORIGINAL-URL:https://neckarwoelfe.de
X-WR-CALDESC:Veranstaltungen für Neckarwölfe e.V.
REFRESH-INTERVAL;VALUE=DURATION:PT1H
X-Robots-Tag:noindex
X-PUBLISHED-TTL:PT1H
BEGIN:VTIMEZONE
TZID:Europe/Berlin
BEGIN:DAYLIGHT
TZOFFSETFROM:+0100
TZOFFSETTO:+0200
TZNAME:CEST
DTSTART:20240331T010000
END:DAYLIGHT
BEGIN:STANDARD
TZOFFSETFROM:+0200
TZOFFSETTO:+0100
TZNAME:CET
DTSTART:20241027T010000
END:STANDARD
BEGIN:DAYLIGHT
TZOFFSETFROM:+0100
TZOFFSETTO:+0200
TZNAME:CEST
DTSTART:20250330T010000
END:DAYLIGHT
BEGIN:STANDARD
TZOFFSETFROM:+0200
TZOFFSETTO:+0100
TZNAME:CET
DTSTART:20251026T010000
END:STANDARD
BEGIN:DAYLIGHT
TZOFFSETFROM:+0100
TZOFFSETTO:+0200
TZNAME:CEST
DTSTART:20260329T010000
END:DAYLIGHT
BEGIN:STANDARD
TZOFFSETFROM:+0200
TZOFFSETTO:+0100
TZNAME:CET
DTSTART:20261025T010000
END:STANDARD
END:VTIMEZONE
BEGIN:VEVENT
DTSTART;VALUE=DATE:20250816
DTEND;VALUE=DATE:20250818
DTSTAMP:20260423T022639
CREATED:20220106T132725Z
LAST-MODIFIED:20240915T140309Z
UID:240-1755302400-1755475199@neckarwoelfe.de
SUMMARY:Offene Kanadische Meisterschaft 2025
DESCRIPTION:🎯𝗚𝗿𝗼ß𝗲 𝗡𝗲𝘂𝗶𝗴𝗸𝗲𝗶𝘁𝗲𝗻: 𝗗𝗶𝗲 𝗞𝗮𝗻𝗮𝗱𝗶𝘀𝗰𝗵𝗲 𝗔𝘅𝘁𝘄𝘂𝗿𝗳-𝗠𝗲𝗶𝘀𝘁𝗲𝗿𝘀𝗰𝗵𝗮𝗳𝘁𝗲𝗻 𝗸𝗲𝗵𝗿𝗲𝗻 𝟮𝟬𝟮𝟱 𝘇𝘂𝗿ü𝗰𝗸! 🎯\nNach einer langen Pause seit 2019 freuen wir uns riesig\, die Rückkehr der Kanadischen Axtwurf-Meisterschaften im Jahr 2025 anzukündigen! Ausgerichtet von der Nova Lumberjacks Society (NLS)\, findet dieses actiongeladene Event am 16. und 17. August 2025 im Wild Axe Park in Barrington\, Nova Scotia\, statt. \nFreut euch darauf\, die besten Axtwerfer aus ganz Kanada und der ganzen Welt zu sehen\, wie sie ihre Präzision und ihr Können in einem epischen Wettkampf unter Beweis stellen. Markiert euch den Termin für ein Wochenende voller 𝗔𝗫𝗧-rakulärer Spannung\, Wettkampf und Gemeinschaftsgeist! \nDieses Event solltet ihr auf keinen Fall verpassen! \nLink zur Facebookseite: https://www.facebook.com/canadaaxethrowing/
URL:https://neckarwoelfe.de/event/world-championship/
LOCATION:Municipality of Barrington\, Barrington\, NS\, Kanada
CATEGORIES:Offene Wettkämpfe
ATTACH;FMTTYPE=image/jpeg:https://neckarwoelfe.de/wp-content/uploads/2022/01/banner-CANADIAN-CHAMPIONSHIP.jpg
END:VEVENT
BEGIN:VEVENT
DTSTART;TZID=Europe/Berlin:20250830T080000
DTEND;TZID=Europe/Berlin:20250831T170000
DTSTAMP:20260423T022639
CREATED:20241117T102846Z
LAST-MODIFIED:20241117T102846Z
UID:884-1756540800-1756659600@neckarwoelfe.de
SUMMARY:Schweizer Meisterschaft 2025
DESCRIPTION:more details will follow and please check Facebook page \nhttps://www.facebook.com/leslanceursdunord
URL:https://neckarwoelfe.de/event/schweizer-meisterschaft-2025/
LOCATION:Les Lanceurs Du Nord\, Switzerland
CATEGORIES:Offene Wettkämpfe
ATTACH;FMTTYPE=image/jpeg:https://neckarwoelfe.de/wp-content/uploads/2024/11/Schweizer-Meisterschaft-2025.jpg
END:VEVENT
END:VCALENDAR