BEGIN:VCALENDAR
VERSION:2.0
PRODID:-//Neckarwölfe e.V. - ECPv6.15.13.1//NONSGML v1.0//EN
CALSCALE:GREGORIAN
METHOD:PUBLISH
X-WR-CALNAME:Neckarwölfe e.V.
X-ORIGINAL-URL:https://neckarwoelfe.de
X-WR-CALDESC:Veranstaltungen für Neckarwölfe e.V.
REFRESH-INTERVAL;VALUE=DURATION:PT1H
X-Robots-Tag:noindex
X-PUBLISHED-TTL:PT1H
BEGIN:VTIMEZONE
TZID:Europe/Berlin
BEGIN:DAYLIGHT
TZOFFSETFROM:+0100
TZOFFSETTO:+0200
TZNAME:CEST
DTSTART:20240331T010000
END:DAYLIGHT
BEGIN:STANDARD
TZOFFSETFROM:+0200
TZOFFSETTO:+0100
TZNAME:CET
DTSTART:20241027T010000
END:STANDARD
BEGIN:DAYLIGHT
TZOFFSETFROM:+0100
TZOFFSETTO:+0200
TZNAME:CEST
DTSTART:20250330T010000
END:DAYLIGHT
BEGIN:STANDARD
TZOFFSETFROM:+0200
TZOFFSETTO:+0100
TZNAME:CET
DTSTART:20251026T010000
END:STANDARD
BEGIN:DAYLIGHT
TZOFFSETFROM:+0100
TZOFFSETTO:+0200
TZNAME:CEST
DTSTART:20260329T010000
END:DAYLIGHT
BEGIN:STANDARD
TZOFFSETFROM:+0200
TZOFFSETTO:+0100
TZNAME:CET
DTSTART:20261025T010000
END:STANDARD
END:VTIMEZONE
BEGIN:VEVENT
DTSTART;TZID=Europe/Berlin:20250926T170000
DTEND;TZID=Europe/Berlin:20250928T160000
DTSTAMP:20260423T004006
CREATED:20250111T115123Z
LAST-MODIFIED:20250830T093214Z
UID:909-1758906000-1759075200@neckarwoelfe.de
SUMMARY:CANCELED-Abschlusswerfen Bundesliga 2025
DESCRIPTION:CANCELED\nAufgrund der geringen Anmeldungen sagen wir das Event ab. \n  \nAm Wochenende 27./28.09.2025 organisieren wir ein kleines Event zum Abschluss der Bundesliga Saison 2025 und werden zusätzlich noch ein kleines KO Turnier durchführen. \nDie Anmeldung erfolgt über unsere E-Mail Adresse info@neckarwoelfe.de und die Startgebührt beläuft sich auf 25\,00 Euro. \nFür Speis und Trank wird gesorgt \nGeplanter Ablauf: \nFreitag 26.09.2025: \n\nRegistratur zwischen 17:00 Uhr und 19:00 Uhr\n\nSamstag 27.09.2025: \n\nab 08:00 Uhr Registratur und Einwerfen\nab 09:00 Event\nab 19:00 Uhr gemütlicher Teil (Details folgen)\n\nSonntag 28.09.2025: \n\nab 08:30 Uhr Einwerfen\nab 09:00 Event\n16:00 Uhr geplantes Ende
URL:https://neckarwoelfe.de/event/abschlusswerfen-bundesliga-2025-und-knock-out-turnier/
LOCATION:Sportplatz Neckargartach\, Böllinger Straße 40\, Heilbronn\, 74078\, Deutschland
CATEGORIES:Championships in Germany,Geschlossene Wettkämpfe
ATTACH;FMTTYPE=image/jpeg:https://neckarwoelfe.de/wp-content/uploads/2020/11/cropped-favicon.jpg
END:VEVENT
END:VCALENDAR