BEGIN:VCALENDAR
VERSION:2.0
PRODID:-//Neckarwölfe e.V. - ECPv6.15.13.1//NONSGML v1.0//EN
CALSCALE:GREGORIAN
METHOD:PUBLISH
X-ORIGINAL-URL:https://neckarwoelfe.de
X-WR-CALDESC:Veranstaltungen für Neckarwölfe e.V.
REFRESH-INTERVAL;VALUE=DURATION:PT1H
X-Robots-Tag:noindex
X-PUBLISHED-TTL:PT1H
BEGIN:VTIMEZONE
TZID:Europe/Berlin
BEGIN:DAYLIGHT
TZOFFSETFROM:+0100
TZOFFSETTO:+0200
TZNAME:CEST
DTSTART:20250330T010000
END:DAYLIGHT
BEGIN:STANDARD
TZOFFSETFROM:+0200
TZOFFSETTO:+0100
TZNAME:CET
DTSTART:20251026T010000
END:STANDARD
BEGIN:DAYLIGHT
TZOFFSETFROM:+0100
TZOFFSETTO:+0200
TZNAME:CEST
DTSTART:20260329T010000
END:DAYLIGHT
BEGIN:STANDARD
TZOFFSETFROM:+0200
TZOFFSETTO:+0100
TZNAME:CET
DTSTART:20261025T010000
END:STANDARD
BEGIN:DAYLIGHT
TZOFFSETFROM:+0100
TZOFFSETTO:+0200
TZNAME:CEST
DTSTART:20270328T010000
END:DAYLIGHT
BEGIN:STANDARD
TZOFFSETFROM:+0200
TZOFFSETTO:+0100
TZNAME:CET
DTSTART:20271031T010000
END:STANDARD
END:VTIMEZONE
BEGIN:VEVENT
DTSTART;VALUE=DATE:20260131
DTEND;VALUE=DATE:20260201
DTSTAMP:20260422T184717
CREATED:20251101T084358Z
LAST-MODIFIED:20251101T084358Z
UID:968-1769817600-1769903999@neckarwoelfe.de
SUMMARY:Estonian Open Indoor Double-Bit Axe Throwing Championships
DESCRIPTION:
URL:https://neckarwoelfe.de/event/estonian-open-indoor-double-bit-axe-throwing-championships/
LOCATION:Axe Throwing Indoor Arena\, Mäetaguse\, Estonia\, Estonia
ATTACH;FMTTYPE=image/jpeg:https://neckarwoelfe.de/wp-content/uploads/2025/11/banner-estonia-januar.jpg
END:VEVENT
END:VCALENDAR