BEGIN:VCALENDAR
VERSION:2.0
PRODID:-//Neckarwölfe e.V. - ECPv6.15.13.1//NONSGML v1.0//EN
CALSCALE:GREGORIAN
METHOD:PUBLISH
X-ORIGINAL-URL:https://neckarwoelfe.de
X-WR-CALDESC:Veranstaltungen für Neckarwölfe e.V.
REFRESH-INTERVAL;VALUE=DURATION:PT1H
X-Robots-Tag:noindex
X-PUBLISHED-TTL:PT1H
BEGIN:VTIMEZONE
TZID:Europe/Berlin
BEGIN:DAYLIGHT
TZOFFSETFROM:+0100
TZOFFSETTO:+0200
TZNAME:CEST
DTSTART:20250330T010000
END:DAYLIGHT
BEGIN:STANDARD
TZOFFSETFROM:+0200
TZOFFSETTO:+0100
TZNAME:CET
DTSTART:20251026T010000
END:STANDARD
BEGIN:DAYLIGHT
TZOFFSETFROM:+0100
TZOFFSETTO:+0200
TZNAME:CEST
DTSTART:20260329T010000
END:DAYLIGHT
BEGIN:STANDARD
TZOFFSETFROM:+0200
TZOFFSETTO:+0100
TZNAME:CET
DTSTART:20261025T010000
END:STANDARD
BEGIN:DAYLIGHT
TZOFFSETFROM:+0100
TZOFFSETTO:+0200
TZNAME:CEST
DTSTART:20270328T010000
END:DAYLIGHT
BEGIN:STANDARD
TZOFFSETFROM:+0200
TZOFFSETTO:+0100
TZNAME:CET
DTSTART:20271031T010000
END:STANDARD
END:VTIMEZONE
BEGIN:VEVENT
DTSTART;VALUE=DATE:20260918
DTEND;VALUE=DATE:20260921
DTSTAMP:20260422T202757
CREATED:20260106T092459Z
LAST-MODIFIED:20260106T092459Z
UID:988-1789689600-1789948799@neckarwoelfe.de
SUMMARY:Schweizer Meisterschaft 2026
DESCRIPTION:Ab sofort könnt ihr euch für die Schweizermeisterschaft registrieren:\n\n\nNational 65 Plätze ( Rohrdorf Vikings nicht über den Link anmelden!)\nInternational 20 Plätze ( unbenötigte CH-Plätze werden später noch freigegeben)\n\n\nBitte auch die Möglichkeit für Abendessen und TShirt bestellung beachten.\n\n\nLink zur Registrierung
URL:https://neckarwoelfe.de/event/schweizer-meisterschaft-2026/
LOCATION:Reithalle Niederrohrdorf\, Holzrütistrasse 21\, Niederrohrdorf\, 5443\, Switzerland
CATEGORIES:Offene Wettkämpfe
ATTACH;FMTTYPE=image/jpeg:https://neckarwoelfe.de/wp-content/uploads/2026/01/banner-ch-meisterschaft2026.jpg
END:VEVENT
END:VCALENDAR